BEGIN:VCALENDAR
VERSION:2.0
PRODID:-//ChamberMaster//Event Calendar 2.0//EN
METHOD:PUBLISH
X-PUBLISHED-TTL:P1H
REFRESH-INTERVAL:P1H
CALSCALE:GREGORIAN
BEGIN:VTIMEZONE
TZID:America/Chicago
BEGIN:DAYLIGHT
RRULE:FREQ=YEARLY;BYMONTH=3;BYDAY=2SU
DTSTART:20070101T000000
TZOFFSETFROM:-0600
TZOFFSETTO:-0500
TZNAME:Central Daylight Time
END:DAYLIGHT
BEGIN:STANDARD
RRULE:FREQ=YEARLY;BYMONTH=11;BYDAY=1SU
DTSTART:20070101T000000
TZOFFSETFROM:-0500
TZOFFSETTO:-0600
TZNAME:Central Standard Time
END:STANDARD
END:VTIMEZONE
BEGIN:VEVENT
DTSTART;TZID=America/Chicago:20260514T163000
DTEND;TZID=America/Chicago:20260514T183000
X-MICROSOFT-CDO-ALLDAYEVENT:FALSE
SUMMARY:All About Affiliates Night
DESCRIPTION:Drop in Thursday\, May 14th from 4:30 to 6:30 pm at Slow Rise on the Brazos.\nThis is a night all about YOU\, ﻿the Affiliates who keep Waco Real Estate flowing.
X-ALT-DESC;FMTTYPE=text/html:Drop in Thursday\, May 14th from 4:30 to 6:30 pm at Slow Rise on the Brazos.\nThis is a night all about YOU\, ﻿the Affiliates who keep Waco Real Estate flowing.
LOCATION:1620 N. MLK Jr. Blvd Waco TX 76704
UID:e.1943.1448271
SEQUENCE:3
DTSTAMP:20260423T185642Z
URL:https://wacoassociationofrealtors.growthzoneapp.com/eventcalendar/Details/all-about-affiliates-night-1715272?sourceTypeId=Hub
END:VEVENT
END:VCALENDAR
