BEGIN:VCALENDAR
VERSION:2.0
PRODID:-//ChamberMaster//Event Calendar 2.0//EN
METHOD:PUBLISH
X-PUBLISHED-TTL:P1H
REFRESH-INTERVAL:P1H
CALSCALE:GREGORIAN
BEGIN:VTIMEZONE
TZID:America/Chicago
BEGIN:DAYLIGHT
RRULE:FREQ=YEARLY;BYMONTH=3;BYDAY=2SU
DTSTART:20070101T000000
TZOFFSETFROM:-0600
TZOFFSETTO:-0500
TZNAME:Central Daylight Time
END:DAYLIGHT
BEGIN:STANDARD
RRULE:FREQ=YEARLY;BYMONTH=11;BYDAY=1SU
DTSTART:20070101T000000
TZOFFSETFROM:-0500
TZOFFSETTO:-0600
TZNAME:Central Standard Time
END:STANDARD
END:VTIMEZONE
BEGIN:VEVENT
DTSTART;TZID=America/Chicago:20260529T083000
DTEND;TZID=America/Chicago:20260529T170000
X-MICROSOFT-CDO-ALLDAYEVENT:FALSE
SUMMARY:Short Sales & Foreclosures: What Real Estate Professionals Need with Ginger Unger
DESCRIPTION:Course ID: 06060-RECE | 8 Hours CE Credit | Instructor: Ginger Unger | For many real estate professionals\, short sales and foreclosures are the new “traditional” real estate transaction. Knowing how to help sellers maneuver the complexities of short sales as well as help buyers pursue short sale and foreclosure opportunities are not merely good skills to have in today’s market-they are critical. And while short sales and foreclosures are not for the faint of heart\, agents with the proper tools and training can use these specialty areas to build their business for the long term.
X-ALT-DESC;FMTTYPE=text/html:Course ID: 06060-RECE | 8 Hours CE Credit | Instructor: Ginger Unger | For many real estate professionals\, short sales and foreclosures are the new “traditional” real estate transaction. Knowing how to help sellers maneuver the complexities of short sales as well as help buyers pursue short sale and foreclosure opportunities are not merely good skills to have in today’s market-they are critical. And while short sales and foreclosures are not for the faint of heart\, agents with the proper tools and training can use these specialty areas to build their business for the long term.
LOCATION:
UID:e.1943.1449133
SEQUENCE:3
DTSTAMP:20260423T185701Z
URL:https://wacoassociationofrealtors.growthzoneapp.com/eventcalendar/Details/short-sales-foreclosures-what-real-estate-professionals-need-with-ginger-unger-1716483?sourceTypeId=Hub
END:VEVENT
END:VCALENDAR
